BEGIN:VCALENDAR
VERSION:2.0
PRODID:-//UVAGO - ECPv5.3.1.1//NONSGML v1.0//EN
CALSCALE:GREGORIAN
METHOD:PUBLISH
X-WR-CALNAME:UVAGO
X-ORIGINAL-URL:https://uvago.org
X-WR-CALDESC:Events for UVAGO
BEGIN:VTIMEZONE
TZID:America/Denver
BEGIN:DAYLIGHT
TZOFFSETFROM:-0700
TZOFFSETTO:-0600
TZNAME:MDT
DTSTART:20140309T090000
END:DAYLIGHT
BEGIN:STANDARD
TZOFFSETFROM:-0600
TZOFFSETTO:-0700
TZNAME:MST
DTSTART:20141102T080000
END:STANDARD
END:VTIMEZONE
BEGIN:VEVENT
DTSTART;TZID=America/Denver:20141109T193000
DTEND;TZID=America/Denver:20141109T193000
DTSTAMP:20260423T091620
CREATED:20141104T115323Z
LAST-MODIFIED:20141104T115323Z
UID:2836-1415561400-1415561400@uvago.org
SUMMARY:Utah Baroque Ensemble
DESCRIPTION:1081 W 1060 N\, Provo\, 7:30 pm
URL:https://uvago.org/event/utah-baroque-ensemble/
LOCATION:Unnamed Venue\, 1081 W 1060 N\, Provo\, UT\, United States
END:VEVENT
END:VCALENDAR