BEGIN:VCALENDAR
VERSION:2.0
PRODID:-//UVAGO - ECPv5.3.1.1//NONSGML v1.0//EN
CALSCALE:GREGORIAN
METHOD:PUBLISH
X-WR-CALNAME:UVAGO
X-ORIGINAL-URL:https://uvago.org
X-WR-CALDESC:Events for UVAGO
BEGIN:VTIMEZONE
TZID:America/Denver
BEGIN:DAYLIGHT
TZOFFSETFROM:-0700
TZOFFSETTO:-0600
TZNAME:MDT
DTSTART:20140309T090000
END:DAYLIGHT
BEGIN:STANDARD
TZOFFSETFROM:-0600
TZOFFSETTO:-0700
TZNAME:MST
DTSTART:20141102T080000
END:STANDARD
END:VTIMEZONE
BEGIN:VEVENT
DTSTART;TZID=America/Denver:20141208T193000
DTEND;TZID=America/Denver:20141208T193000
DTSTAMP:20260423T105701
CREATED:20141104T120928Z
LAST-MODIFIED:20141104T120957Z
UID:2846-1418067000-1418067000@uvago.org
SUMMARY:Utah Chamber Artists\, “Welcome All Wonders”
DESCRIPTION:Utah Chamber Artists\, “Welcome All Wonders\,” Libby Gardner Hall\, University of Utah\, 7:30 pm
URL:https://uvago.org/event/utah-chamber-artists-welcome-all-wonders/
LOCATION:Utah Chamber Artists\, Libby Gardner Hall\, University of Utah\, Salt Lake City\, UT
END:VEVENT
END:VCALENDAR