BEGIN:VCALENDAR
VERSION:2.0
PRODID:-//UVAGO - ECPv5.3.1.1//NONSGML v1.0//EN
CALSCALE:GREGORIAN
METHOD:PUBLISH
X-WR-CALNAME:UVAGO
X-ORIGINAL-URL:https://uvago.org
X-WR-CALDESC:Events for UVAGO
BEGIN:VTIMEZONE
TZID:America/Denver
BEGIN:DAYLIGHT
TZOFFSETFROM:-0700
TZOFFSETTO:-0600
TZNAME:MDT
DTSTART:20160313T090000
END:DAYLIGHT
BEGIN:STANDARD
TZOFFSETFROM:-0600
TZOFFSETTO:-0700
TZNAME:MST
DTSTART:20161106T080000
END:STANDARD
END:VTIMEZONE
BEGIN:VEVENT
DTSTART;TZID=America/Denver:20160220T090000
DTEND;TZID=America/Denver:20160220T120000
DTSTAMP:20260423T053834
CREATED:20151104T154532Z
LAST-MODIFIED:20151108T063700Z
UID:3873-1455958800-1455969600@uvago.org
SUMMARY:Utah Valley AGO Youth Scholarship Auditions and Performance
DESCRIPTION:The Utah Valley AGO chapter is pleased to announce a Youth Scholarship audition for organists and pianists who are 18 years old and younger. \nOrganists will audition for free organ lessons (if not currently studying with a teacher) or a master class performance (if currently studying with a teacher). Participants receiving the top score from each level will play in a winners recital sponsored by the Utah Valley AGO. A scholarship worth $450 will be awarded to the top winner to attend a Pipe Organ Encounter (POE) to be held in Salt Lake City in July 2016. POE is an AGO nationally sponsored 4-5 day event\, which introduces participants to the pipe organ. \nPianists who are 18 years old and younger may apply to play one original piece (no transcriptions or reductions) of their choice from the works of non-American composers. Pianists will audition for introductory organ lessons with a qualified AGO instructor. \nMore detailed information is available in the following documents: \nScholarship Auditions – Rules and Policies\nScholarship Application Form\nScholarship Repertoire List \nThe application deadline\, including a $25 entry fee\, is January 15\, 2016. The auditions will be held at the Orem Sharon Stake Center on Saturday\, February 20\, 2016.  If you have any questions\, please contact Lori Serr\, Utah Valley AGO Education Chair\, at 801-489-8222 or lori.serr@icloud.com. \n—AGO Youth Scholarship Repertoire List\n—2015-16 Scholarship Audition Form \n—Utah Valley AGO Scholarship Auditions 2016 Rules and Policies
URL:https://uvago.org/event/utah-valley-ago-youth-scholarship-auditions/
CATEGORIES:Chapter Activities,Competitions
END:VEVENT
END:VCALENDAR