BEGIN:VCALENDAR
VERSION:2.0
PRODID:-//UVAGO - ECPv5.3.1.1//NONSGML v1.0//EN
CALSCALE:GREGORIAN
METHOD:PUBLISH
X-WR-CALNAME:UVAGO
X-ORIGINAL-URL:https://uvago.org
X-WR-CALDESC:Events for UVAGO
BEGIN:VTIMEZONE
TZID:America/Denver
BEGIN:DAYLIGHT
TZOFFSETFROM:-0700
TZOFFSETTO:-0600
TZNAME:MDT
DTSTART:20230312T090000
END:DAYLIGHT
BEGIN:STANDARD
TZOFFSETFROM:-0600
TZOFFSETTO:-0700
TZNAME:MST
DTSTART:20231105T080000
END:STANDARD
END:VTIMEZONE
BEGIN:VEVENT
DTSTART;TZID=America/Denver:20230116T130000
DTEND;TZID=America/Denver:20230116T150000
DTSTAMP:20260420T011313
CREATED:20221112T061236Z
LAST-MODIFIED:20230306T032601Z
UID:6580-1673874000-1673881200@uvago.org
SUMMARY:UVAGO Tabernacle Organ Crawl
DESCRIPTION:Tabernacle Organ Crawl\, January 16\, 2023\, 1:00 – 3:00 p.m. \n\nArrive at 12:40 at #1 near West end of Tabernacle\nEnter building at 12:45 p.m. as a group\nLeave building at 3:00 p.m. as a group\nSign up to play the Tabernacle organ by clicking the button at the end of the Sub-Dean’s message.\n\n  \n\n\n\n\n\n\n\n\nThe UVAGO Organ Crawl\, Jan 16\, 2023 is quickly approaching. Please carefully read the following details. Priority will be given to chapter members and individuals who did not play the Tabernacle organ last January. \n\n\nOur chapter has the opportunity to play the Tabernacle organ on Jan 16\, 2023 at 1:00 – 3:00 p.m. Prior to that event\, there will be a guest organist recital which begins at noon\, which you may attend. If you attend the noon recital\, please exit the Tabernacle after the recital and meet at #1 door near the West end of the Tabernacle where we will enter the building at 12:45 p.m. \n\n\n\n\nFor those not attending the recital\, please meet at 12:45 pm at door #1\, near the West end of the Tabernacle and enter with the chapter. We need to leave as a group when we are finished at 3:00. By adhering to these instructions\, we can continue to make it possible for our group and others like ours to enjoy time playing on this magnificent instrument. \n\n\nIf you have a conflict where you absolutely cannot arrive at 1:00 p.m. or if you must leave before 3:00 p.m\, please contact Marcine Sawyer via text at 801-854-8032 and we will see if we can make an exception. \n\n\nPlease stay near the organ during our two-hour event and don’t wander around the building. Wandering creates concerns for temple square security. \n\n\nIMPORTANT TEMPLE SQUARE POLICY: You are welcome to have pictures taken of yourself at the organ if you wish to do so. Videos are also allowed\, but are for personal use only\, and may not be shared online\, posted to social media sites\, or distributed to others. The church takes this restriction quite seriously\, so please help us continue to offer open console opportunities by complying with this policy. \n\n\nWhile no dress code has been specified\, please dress in neat and tidy clothing. \n\n\nThere will be someone familiar with the console to help register your piece. \n\n\nPlease use the link below to sign up to play at the Tabernacle. \n\n\n\n\n\n\n\n\n\n\n\n\n\n\n\nPlay the Tabernacle Organ
URL:https://uvago.org/event/uvago-tabernacle-organ-crawl/
LOCATION:Salt Lake Tabernacle\, Temple Square\, Salt Lake City\, UT
CATEGORIES:Chapter Activities
ATTACH;FMTTYPE=image/png:https://uvago.org/wordpress/wp-content/uploads/2022/11/2023-01-16-Tab-Organ-crawl.png
END:VEVENT
END:VCALENDAR