BEGIN:VCALENDAR
VERSION:2.0
PRODID:-//UVAGO - ECPv5.3.1.1//NONSGML v1.0//EN
CALSCALE:GREGORIAN
METHOD:PUBLISH
X-WR-CALNAME:UVAGO
X-ORIGINAL-URL:https://uvago.org
X-WR-CALDESC:Events for UVAGO
BEGIN:VTIMEZONE
TZID:America/Denver
BEGIN:DAYLIGHT
TZOFFSETFROM:-0700
TZOFFSETTO:-0600
TZNAME:MDT
DTSTART:20240310T090000
END:DAYLIGHT
BEGIN:STANDARD
TZOFFSETFROM:-0600
TZOFFSETTO:-0700
TZNAME:MST
DTSTART:20241103T080000
END:STANDARD
END:VTIMEZONE
BEGIN:VEVENT
DTSTART;TZID=America/Denver:20240310T080000
DTEND;TZID=America/Denver:20240310T170000
DTSTAMP:20260419T224540
CREATED:20240103T043413Z
LAST-MODIFIED:20240224T051414Z
UID:7000-1710057600-1710090000@uvago.org
SUMMARY:Woman Composer Sunday
DESCRIPTION:The AGO will once again observe Woman Composer Sunday on Sunday\, March 10\, 2024. Members are encouraged to include music by women composers in their services and other performances on that day. \nIf you’re not sure what you might play or are seeking new repertoire\, the AGO Task Force on Gender Equity arranged for three works by women composers to be reprinted in The American Organist magazine: Largo\, 1857\, by Elizabeth Stirling (Jan.); Children of the Heavenly Father\, 1964\, by Roberta Bitgood (Feb.); and Let Us Break Bread Together\, 2020\, by Martha Sobaje (March). Here are more AGO resources and a list of organ music by women composers. \nHere are some resources\, compiled by the AGO Task Force for Gender Equity\, to help you prepare: \n\nRepertoire by Women Composers and Resources (PDF)\nChurch Bulletin Notes Template and Social Media Tips (PDF)\nAGO Young Organists Women Composers Project (2023) Part 1 and Part 2 (YouTube)\n“Largo” by Elizabeth Stirling (PDF\, public domain)\n“Children’s Prayer from Sweden” by Roberta Bitgood (PDF\, reprinted with permission)\n“Let Us Break Bread Together” by Martha Sobaje (PDF\, courtesy of the Wayne Leupold Foundation)\n\n  \n 
URL:https://uvago.org/event/woman-composer-sunday/
CATEGORIES:Chapter Activities
ATTACH;FMTTYPE=image/png:https://uvago.org/wordpress/wp-content/uploads/2024/01/2024-03-10-Women-composers.png
END:VEVENT
END:VCALENDAR