BEGIN:VCALENDAR
VERSION:2.0
PRODID:-//UVAGO - ECPv5.3.1.1//NONSGML v1.0//EN
CALSCALE:GREGORIAN
METHOD:PUBLISH
X-WR-CALNAME:UVAGO
X-ORIGINAL-URL:https://uvago.org
X-WR-CALDESC:Events for UVAGO
BEGIN:VTIMEZONE
TZID:America/Denver
BEGIN:DAYLIGHT
TZOFFSETFROM:-0700
TZOFFSETTO:-0600
TZNAME:MDT
DTSTART:20170312T090000
END:DAYLIGHT
BEGIN:STANDARD
TZOFFSETFROM:-0600
TZOFFSETTO:-0700
TZNAME:MST
DTSTART:20171105T080000
END:STANDARD
END:VTIMEZONE
BEGIN:VEVENT
DTSTART;TZID=America/Denver:20170125T190000
DTEND;TZID=America/Denver:20170125T203000
DTSTAMP:20260422T225613
CREATED:20170103T074926Z
LAST-MODIFIED:20170125T235718Z
UID:4399-1485370800-1485376200@uvago.org
SUMMARY:Workshop: Organ Basics
DESCRIPTION:Jan 25 Workshop: Organ Basics\, Hymn-playing and Registration with AGO National Treasurer Dr. Barbara Adler. 7:00 PM\, Taylorsville Central LDS Stake Center\, 4950 South 1950 West\, Taylorsville. \nClick here to download the flyer and for more information.
URL:https://uvago.org/event/workshop-organ-basics/
LOCATION:Taylorsville Central LDS Stake Center\, 4950 South 1950 West \, Taylorsville\, UT\, United States
CATEGORIES:Community Events & Recitals
END:VEVENT
END:VCALENDAR